BEGIN:VCALENDAR
VERSION:2.0
PRODID:-//BMT Akademie - ECPv6.15.15//NONSGML v1.0//EN
CALSCALE:GREGORIAN
METHOD:PUBLISH
X-WR-CALNAME:BMT Akademie
X-ORIGINAL-URL:https://www.bmt-akademie.com
X-WR-CALDESC:Veranstaltungen für BMT Akademie
REFRESH-INTERVAL;VALUE=DURATION:PT1H
X-Robots-Tag:noindex
X-PUBLISHED-TTL:PT1H
BEGIN:VTIMEZONE
TZID:Europe/Berlin
BEGIN:DAYLIGHT
TZOFFSETFROM:+0100
TZOFFSETTO:+0200
TZNAME:CEST
DTSTART:20260329T010000
END:DAYLIGHT
BEGIN:STANDARD
TZOFFSETFROM:+0200
TZOFFSETTO:+0100
TZNAME:CET
DTSTART:20261025T010000
END:STANDARD
BEGIN:DAYLIGHT
TZOFFSETFROM:+0100
TZOFFSETTO:+0200
TZNAME:CEST
DTSTART:20270328T010000
END:DAYLIGHT
BEGIN:STANDARD
TZOFFSETFROM:+0200
TZOFFSETTO:+0100
TZNAME:CET
DTSTART:20271031T010000
END:STANDARD
BEGIN:DAYLIGHT
TZOFFSETFROM:+0100
TZOFFSETTO:+0200
TZNAME:CEST
DTSTART:20280326T010000
END:DAYLIGHT
BEGIN:STANDARD
TZOFFSETFROM:+0200
TZOFFSETTO:+0100
TZNAME:CET
DTSTART:20281029T010000
END:STANDARD
BEGIN:DAYLIGHT
TZOFFSETFROM:+0100
TZOFFSETTO:+0200
TZNAME:CEST
DTSTART:20290325T010000
END:DAYLIGHT
BEGIN:STANDARD
TZOFFSETFROM:+0200
TZOFFSETTO:+0100
TZNAME:CET
DTSTART:20291028T010000
END:STANDARD
END:VTIMEZONE
BEGIN:VEVENT
DTSTART;VALUE=DATE:20270120
DTEND;VALUE=DATE:20270125
DTSTAMP:20260423T005825
CREATED:20230119T110439Z
LAST-MODIFIED:20230131T103732Z
UID:10000533-1800403200-1800835199@www.bmt-akademie.com
SUMMARY:Ausbildung Manuelle Therapie  MTT
DESCRIPTION:Untersuchung und Behandlung der Muskulatur der Extremitäten und Wirbelsäule: Muskelphysiologie\, Muskulatur und Arthrokinematik\, Muskelfunktion im offenen und geschlossenen System\, Myodiagnostik\, Muskelselktion in einer Muskelgruppe\, Prinzipien der Weichteil- und Muskelbehandlung\, Triggerpoints\, Stretch and Spray\, Mobilisation intramuskulärem Gewebe\, Kennenlernen von Trainingsformen des Bewegungsapparates der Extremitäten und der Wirbelsäule. Wiederherstellen einer dreidimensionalen mobilen Stabilität des Bewegungsapparates. Dieses Training wird unterstützt durch die dafür vorgesehenen Trainingsgeräte. \nKann in Deutschland als KG-Gerät Zertifikat verwendet werden.\nSollten Sie bereits ein MTT bzw. KGG Zertifikat haben\, müssen Sie auf diesem Modul\, nur die ersten zwei Tage belegen.\nBitte nehmen Sie mit uns Kontakt auf\, um dies abzuklären. \nFür ehemalige Schüler der Bernd-Blindow-Gruppe und ehemalige/aktuelle Studenten der Bernd-Blindow-Gruppe beträgt die Kursgebühr für den Starterkurs ab 2024 einmalig 400\,00 €.\nEin Nachweis ist erforderlich bei der Anmeldung.
URL:https://www.bmt-akademie.com/kurs/ausbildung-manuelle-therapie-mtt/
LOCATION:Bernd-Blindow-Schulen Friedrichshafen\, Allmannsweiler Straße 104\, Friedrichshafen\, 88046\, Deutschland
CATEGORIES:Kurs P3 | MTT/KGG
ATTACH;FMTTYPE=image/png:https://www.bmt-akademie.com/wp-content/uploads/Kurse-MTT-Friedrichshafen.png
GEO:47.6720128;9.5031439
X-APPLE-STRUCTURED-LOCATION;VALUE=URI;X-ADDRESS=Bernd-Blindow-Schulen Friedrichshafen Allmannsweiler Straße 104 Friedrichshafen 88046 Deutschland;X-APPLE-RADIUS=500;X-TITLE=Allmannsweiler Straße 104:geo:9.5031439,47.6720128
END:VEVENT
BEGIN:VEVENT
DTSTART;VALUE=DATE:20270421
DTEND;VALUE=DATE:20270426
DTSTAMP:20260423T005825
CREATED:20230119T122000Z
LAST-MODIFIED:20230131T103738Z
UID:10000537-1808265600-1808697599@www.bmt-akademie.com
SUMMARY:Einstiegskurs Manuelle Therapie   P4 | W1
DESCRIPTION:Untersuchung und Behandlung der Wirbelsäule (zweidimensional) Arthro-\, und Myo- und Neurodiagnostik: Beschreibende Anatomie\, Arthro- und Osteokinematik des Einzelwirbelverhaltens (Bewegungssegment)\, Neuroanatomie\, Palpation\, Biomechanik\, Entwicklungs und Neurophysiologie der Wirbelsäule\, Befunderhebungsschema\, Dokumentation\, Gelenktranslation\, -separation\, -kompression\, allgemeine Röntgenbildbefundung\, Pathologie und Pathomorphologie\, Neurologie und Segmentdiagnostik\, ligamentäre Verriegelungen\, Mobilisation\, Oszillation\, Behandlungsvorschläge\, Automobilisation und -stabilisation. \nFür ehemalige Schüler der Bernd-Blindow-Gruppe und ehemalige/aktuelle Studenten der Bernd-Blindow-Gruppe beträgt die Kursgebühr für den Starterkurs ab 2024 einmalig 400\,00 €.\nEin Nachweis ist erforderlich bei der Anmeldung.
URL:https://www.bmt-akademie.com/kurs/einstiegskurs-manuelle-therapie-p4-w1-4/
LOCATION:Bernd-Blindow-Schulen Friedrichshafen\, Allmannsweiler Straße 104\, Friedrichshafen\, 88046\, Deutschland
CATEGORIES:Kurs P4 | W1
ATTACH;FMTTYPE=image/png:https://www.bmt-akademie.com/wp-content/uploads/Kurse-W1-Friedrichshafen.png
GEO:47.6720128;9.5031439
X-APPLE-STRUCTURED-LOCATION;VALUE=URI;X-ADDRESS=Bernd-Blindow-Schulen Friedrichshafen Allmannsweiler Straße 104 Friedrichshafen 88046 Deutschland;X-APPLE-RADIUS=500;X-TITLE=Allmannsweiler Straße 104:geo:9.5031439,47.6720128
END:VEVENT
BEGIN:VEVENT
DTSTART;VALUE=DATE:20270901
DTEND;VALUE=DATE:20270906
DTSTAMP:20260423T005825
CREATED:20230119T122120Z
LAST-MODIFIED:20230131T103740Z
UID:10000538-1819756800-1820188799@www.bmt-akademie.com
SUMMARY:Ausbildung Manuelle Therapie  P5 | W2
DESCRIPTION:Spezielle Untersuchung der Wirbelsäule (dreidimensional) Arthro-\, Myo- und Neurodiagnostik: Spezielle dreidimensionale Gelenkfunktionen des Einzelwirbelverhaltens\, Trennung der Facettenpaare in der segmentalen Untersuchung\, Erweiterung der Segmentdiagnostik\, Funktionspalpation\, neurologische Orientierung (Dermatome\, Kennmuskeln\, Reflexe)\, Orthopädische und neurologische Krankheitsbilder\, Differenzierung radikulärer und pseudoradikulärer Krankheitsbilder\, Dokumentation.
URL:https://www.bmt-akademie.com/kurs/ausbildung-manuelle-therapie-p5-w2-5/
LOCATION:Bernd-Blindow-Schulen Friedrichshafen\, Allmannsweiler Straße 104\, Friedrichshafen\, 88046\, Deutschland
CATEGORIES:Kurs P5 | W2
ATTACH;FMTTYPE=image/png:https://www.bmt-akademie.com/wp-content/uploads/Kurse-W2-Friedrichshafen.png
GEO:47.6720128;9.5031439
X-APPLE-STRUCTURED-LOCATION;VALUE=URI;X-ADDRESS=Bernd-Blindow-Schulen Friedrichshafen Allmannsweiler Straße 104 Friedrichshafen 88046 Deutschland;X-APPLE-RADIUS=500;X-TITLE=Allmannsweiler Straße 104:geo:9.5031439,47.6720128
END:VEVENT
BEGIN:VEVENT
DTSTART;VALUE=DATE:20271118
DTEND;VALUE=DATE:20271122
DTSTAMP:20260423T005825
CREATED:20230119T122242Z
LAST-MODIFIED:20230131T103742Z
UID:10000539-1826496000-1826841599@www.bmt-akademie.com
SUMMARY:Ausbildung Neurodynamische Therapie
DESCRIPTION:Das Konzept "Biodynamische Manuelle Therapie".\nDas Nervensystem durchzieht den gesamten Körper und muss sich bei allen Bewegungen der Gelenke anpassen. Meist liegen deshalb bei Störungen im muskulo-artikulärem System auch neurale Probleme direkt oder indirekt vor. Die Integration neurodynamischer Tests in die Behandlung ermöglicht es\, neurale Probleme aufzudecken und einen Behandlungsplan aufzustellen. \n  \nKursinhalte: \n\n	Auswertung der Untersuchungs- und Behandlungsresultate \n	differenzialdiagnostische Verfahren - Grundlage der Neurotherapie und Pathoneurodynamik \n	grundlegende Neuroanatomie\, Neurophysiologie und Neuropathologie \n	Indikationen\, Kontraindikationen - neurale Palpationstechniken \n	neurodynamische Basistests \n	neurodynamische Mobilisation/Therapie\n\n  \nZusätzlicher Hinweis:\nDie Neurodynamische Therapie umfasst einen Kurs an 4 Tagen.
URL:https://www.bmt-akademie.com/kurs/ausbildung-neurodynamische-therapie-6/
LOCATION:Bernd-Blindow-Schulen Friedrichshafen\, Allmannsweiler Straße 104\, Friedrichshafen\, 88046\, Deutschland
CATEGORIES:Neurodynamische Therapie
ATTACH;FMTTYPE=image/png:https://www.bmt-akademie.com/wp-content/uploads/Kurse-NDY-Friedrichshafen.png
GEO:47.6720128;9.5031439
X-APPLE-STRUCTURED-LOCATION;VALUE=URI;X-ADDRESS=Bernd-Blindow-Schulen Friedrichshafen Allmannsweiler Straße 104 Friedrichshafen 88046 Deutschland;X-APPLE-RADIUS=500;X-TITLE=Allmannsweiler Straße 104:geo:9.5031439,47.6720128
END:VEVENT
BEGIN:VEVENT
DTSTART;VALUE=DATE:20280202
DTEND;VALUE=DATE:20280207
DTSTAMP:20260423T005825
CREATED:20230119T122458Z
LAST-MODIFIED:20230131T103746Z
UID:10000540-1833062400-1833494399@www.bmt-akademie.com
SUMMARY:Ausbildung Manuelle Therapie  P6 | W3
DESCRIPTION:Spezielle Behandlung der Wirbelsäule (dreidimensional) \, Untersuchung und Behandlung des Craniocervikalen Überganges (Kopfgelenke) und des Craniomandibulärem System (Kiefergelenk): Behandlungsbeispiele aus der Pathologie und Morphologie\, spezielle Verriegelungstechniken über das Wirbelgruppenverhalten (Facettenverriegelung)\, isolierte Behandlung einzelner Facettenpaare\, Muscle-Energie-Technics\, dreidimensionale Untersuchung und Behandlung des Craniocervikalen Überganges und Craniomandibulärem Systems\, Sicherheitstest des Craniocervikalen Überganges\, Pathologie und Zusammenhänge des Craniocervikalen Überganges und Craniomandibulärem System\, Verknüpfung des Biomechanischen und Biodynamischen Systeme anhand der Embryologie.
URL:https://www.bmt-akademie.com/kurs/ausbildung-manuelle-therapie-p6-w3-6/
LOCATION:Bernd-Blindow-Schulen Friedrichshafen\, Allmannsweiler Straße 104\, Friedrichshafen\, 88046\, Deutschland
CATEGORIES:Kurs P6 | W3
ATTACH;FMTTYPE=image/png:https://www.bmt-akademie.com/wp-content/uploads/Kurse-W3-Friedrichshafen.png
GEO:47.6720128;9.5031439
X-APPLE-STRUCTURED-LOCATION;VALUE=URI;X-ADDRESS=Bernd-Blindow-Schulen Friedrichshafen Allmannsweiler Straße 104 Friedrichshafen 88046 Deutschland;X-APPLE-RADIUS=500;X-TITLE=Allmannsweiler Straße 104:geo:9.5031439,47.6720128
END:VEVENT
BEGIN:VEVENT
DTSTART;VALUE=DATE:20280503
DTEND;VALUE=DATE:20280508
DTSTAMP:20260423T005825
CREATED:20230119T122954Z
LAST-MODIFIED:20230131T103750Z
UID:10000543-1840924800-1841356799@www.bmt-akademie.com
SUMMARY:Einstiegskurs Manuelle Therapie  P1 | E1
DESCRIPTION:Untersuchung und Behandlung der oberen Extremität und unteren Extremität (zweidimensional) Arthro- und Myodiagnostik: Beschreibende Anatomie\, Arthro- und Osteokinematik aus der Biomechanik\, Gelenkneurologie und neuromuskuläre Zusammenhänge\, Befunderhebung\, aktive und passive Strukturen\, Gelenktranslation und -separation\, Palpation. Gelenkmobilisation aus der Ruhestellung. \nFür ehemalige Schüler der Bernd-Blindow-Gruppe und ehemalige/aktuelle Studenten der Bernd-Blindow-Gruppe beträgt die Kursgebühr für den Starterkurs ab 2024 einmalig 400\,00 €.\nEin Nachweis ist erforderlich bei der Anmeldung.
URL:https://www.bmt-akademie.com/kurs/einstiegskurs-manuelle-therapie-p1-e1-8/
LOCATION:Bernd-Blindow-Schulen Friedrichshafen\, Allmannsweiler Straße 104\, Friedrichshafen\, 88046\, Deutschland
CATEGORIES:Kurs P1 | E1
ATTACH;FMTTYPE=image/png:https://www.bmt-akademie.com/wp-content/uploads/Kurse-E1-Friedrichshafen.png
GEO:47.6720128;9.5031439
X-APPLE-STRUCTURED-LOCATION;VALUE=URI;X-ADDRESS=Bernd-Blindow-Schulen Friedrichshafen Allmannsweiler Straße 104 Friedrichshafen 88046 Deutschland;X-APPLE-RADIUS=500;X-TITLE=Allmannsweiler Straße 104:geo:9.5031439,47.6720128
END:VEVENT
BEGIN:VEVENT
DTSTART;VALUE=DATE:20280913
DTEND;VALUE=DATE:20280918
DTSTAMP:20260423T005825
CREATED:20230119T123111Z
LAST-MODIFIED:20230131T103817Z
UID:10000544-1852416000-1852847999@www.bmt-akademie.com
SUMMARY:Ausbildung Manuelle Therapie  E2
DESCRIPTION:Spezielle Behandlung der Extremitätengelenke (dreidimensional) Arthro- und Myodiagnostik\, dreidimensionale Diagnostik und Therapie der Beckenregion und Hüftgelenk\, Biomechanik: Konstitutionelle Haltung und Bewegung\, funktionelle Anatomie\, dreidimensionale Bewegungsabläufe\, Dokumentation\, Behandlungsschemata\, Behandlung der Hypermobilität\, Immobilisation\, Automobilisation\, Mobilisationen an der Barriere 3D\, Manipulation\, Hebelgesetze der Biomechanik.
URL:https://www.bmt-akademie.com/kurs/ausbildung-manuelle-therapie-e2-2/
LOCATION:Bernd-Blindow-Schulen Friedrichshafen\, Allmannsweiler Straße 104\, Friedrichshafen\, 88046\, Deutschland
CATEGORIES:Kurs P2 | E2
ATTACH;FMTTYPE=image/png:https://www.bmt-akademie.com/wp-content/uploads/Kurse-E2-Friedrichshafen.png
GEO:47.6720128;9.5031439
X-APPLE-STRUCTURED-LOCATION;VALUE=URI;X-ADDRESS=Bernd-Blindow-Schulen Friedrichshafen Allmannsweiler Straße 104 Friedrichshafen 88046 Deutschland;X-APPLE-RADIUS=500;X-TITLE=Allmannsweiler Straße 104:geo:9.5031439,47.6720128
END:VEVENT
BEGIN:VEVENT
DTSTART;VALUE=DATE:20281213
DTEND;VALUE=DATE:20281218
DTSTAMP:20260423T005825
CREATED:20230119T123241Z
LAST-MODIFIED:20230303T115517Z
UID:10000545-1860278400-1860710399@www.bmt-akademie.com
SUMMARY:Ausbildung Manuelle Therapie  MTT
DESCRIPTION:Untersuchung und Behandlung der Muskulatur der Extremitäten und Wirbelsäule: Muskelphysiologie\, Muskulatur und Arthrokinematik\, Muskelfunktion im offenen und geschlossenen System\, Myodiagnostik\, Muskelselktion in einer Muskelgruppe\, Prinzipien der Weichteil- und Muskelbehandlung\, Triggerpoints\, Stretch and Spray\, Mobilisation intramuskulärem Gewebe\, Kennenlernen von Trainingsformen des Bewegungsapparates der Extremitäten und der Wirbelsäule. Wiederherstellen einer dreidimensionalen mobilen Stabilität des Bewegungsapparates. Dieses Training wird unterstützt durch die dafür vorgesehenen Trainingsgeräte. \nKann in Deutschland als KG-Gerät Zertifikat verwendet werden.\nSollten Sie bereits ein MTT bzw. KGG Zertifikat haben\, müssen Sie auf diesem Modul\, nur die ersten zwei Tage belegen.\nBitte nehmen Sie mit uns Kontakt auf\, um dies abzuklären. \nFür ehemalige Schüler der Bernd-Blindow-Gruppe und ehemalige/aktuelle Studenten der Bernd-Blindow-Gruppe beträgt die Kursgebühr für den Starterkurs ab 2024 einmalig 400\,00 €.\nEin Nachweis ist erforderlich bei der Anmeldung.
URL:https://www.bmt-akademie.com/kurs/ausbildung-manuelle-therapie-mtt-2/
LOCATION:Bernd-Blindow-Schulen Friedrichshafen\, Allmannsweiler Straße 104\, Friedrichshafen\, 88046\, Deutschland
CATEGORIES:Kurs P3 | MTT/KGG
ATTACH;FMTTYPE=image/png:https://www.bmt-akademie.com/wp-content/uploads/Kurse-MTT-Friedrichshafen.png
GEO:47.6720128;9.5031439
X-APPLE-STRUCTURED-LOCATION;VALUE=URI;X-ADDRESS=Bernd-Blindow-Schulen Friedrichshafen Allmannsweiler Straße 104 Friedrichshafen 88046 Deutschland;X-APPLE-RADIUS=500;X-TITLE=Allmannsweiler Straße 104:geo:9.5031439,47.6720128
END:VEVENT
END:VCALENDAR