BEGIN:VCALENDAR
VERSION:2.0
PRODID:-//BMT Akademie - ECPv6.15.15//NONSGML v1.0//EN
CALSCALE:GREGORIAN
METHOD:PUBLISH
X-WR-CALNAME:BMT Akademie
X-ORIGINAL-URL:https://www.bmt-akademie.com
X-WR-CALDESC:Veranstaltungen für BMT Akademie
REFRESH-INTERVAL;VALUE=DURATION:PT1H
X-Robots-Tag:noindex
X-PUBLISHED-TTL:PT1H
BEGIN:VTIMEZONE
TZID:Europe/Berlin
BEGIN:DAYLIGHT
TZOFFSETFROM:+0100
TZOFFSETTO:+0200
TZNAME:CEST
DTSTART:20260329T010000
END:DAYLIGHT
BEGIN:STANDARD
TZOFFSETFROM:+0200
TZOFFSETTO:+0100
TZNAME:CET
DTSTART:20261025T010000
END:STANDARD
BEGIN:DAYLIGHT
TZOFFSETFROM:+0100
TZOFFSETTO:+0200
TZNAME:CEST
DTSTART:20270328T010000
END:DAYLIGHT
BEGIN:STANDARD
TZOFFSETFROM:+0200
TZOFFSETTO:+0100
TZNAME:CET
DTSTART:20271031T010000
END:STANDARD
BEGIN:DAYLIGHT
TZOFFSETFROM:+0100
TZOFFSETTO:+0200
TZNAME:CEST
DTSTART:20280326T010000
END:DAYLIGHT
BEGIN:STANDARD
TZOFFSETFROM:+0200
TZOFFSETTO:+0100
TZNAME:CET
DTSTART:20281029T010000
END:STANDARD
END:VTIMEZONE
BEGIN:VEVENT
DTSTART;VALUE=DATE:20271208
DTEND;VALUE=DATE:20271213
DTSTAMP:20260424T040956
CREATED:20230121T114748Z
LAST-MODIFIED:20230131T103745Z
UID:10000586-1828224000-1828655999@www.bmt-akademie.com
SUMMARY:Ausbildung Manuelle Therapie  P5 | W2
DESCRIPTION:Spezielle Untersuchung der Wirbelsäule (dreidimensional) Arthro-\, Myo- und Neurodiagnostik: Spezielle dreidimensionale Gelenkfunktionen des Einzelwirbelverhaltens\, Trennung der Facettenpaare in der segmentalen Untersuchung\, Erweiterung der Segmentdiagnostik\, Funktionspalpation\, neurologische Orientierung (Dermatome\, Kennmuskeln\, Reflexe)\, Orthopädische und neurologische Krankheitsbilder\, Differenzierung radikulärer und pseudoradikulärer Krankheitsbilder\, Dokumentation.
URL:https://www.bmt-akademie.com/kurs/ausbildung-manuelle-therapie-p5-w2-7/
LOCATION:Bernd-Blindow-Schulen Heilbronn\, Allee 6\, Heilbronn\, 74072\, Deutschland
CATEGORIES:Kurs P5 | W2
ATTACH;FMTTYPE=image/png:https://www.bmt-akademie.com/wp-content/uploads/Kurse-W2-Heilbronn.png
GEO:49.1402084;9.2226436
X-APPLE-STRUCTURED-LOCATION;VALUE=URI;X-ADDRESS=Bernd-Blindow-Schulen Heilbronn Allee 6 Heilbronn 74072 Deutschland;X-APPLE-RADIUS=500;X-TITLE=Allee 6:geo:9.2226436,49.1402084
END:VEVENT
END:VCALENDAR