BEGIN:VCALENDAR
VERSION:2.0
PRODID:-//BMT Akademie - ECPv6.15.15//NONSGML v1.0//EN
CALSCALE:GREGORIAN
METHOD:PUBLISH
X-ORIGINAL-URL:https://www.bmt-akademie.com
X-WR-CALDESC:Veranstaltungen für BMT Akademie
REFRESH-INTERVAL;VALUE=DURATION:PT1H
X-Robots-Tag:noindex
X-PUBLISHED-TTL:PT1H
BEGIN:VTIMEZONE
TZID:Europe/Berlin
BEGIN:DAYLIGHT
TZOFFSETFROM:+0100
TZOFFSETTO:+0200
TZNAME:CEST
DTSTART:20270328T010000
END:DAYLIGHT
BEGIN:STANDARD
TZOFFSETFROM:+0200
TZOFFSETTO:+0100
TZNAME:CET
DTSTART:20271031T010000
END:STANDARD
BEGIN:DAYLIGHT
TZOFFSETFROM:+0100
TZOFFSETTO:+0200
TZNAME:CEST
DTSTART:20280326T010000
END:DAYLIGHT
BEGIN:STANDARD
TZOFFSETFROM:+0200
TZOFFSETTO:+0100
TZNAME:CET
DTSTART:20281029T010000
END:STANDARD
BEGIN:DAYLIGHT
TZOFFSETFROM:+0100
TZOFFSETTO:+0200
TZNAME:CEST
DTSTART:20290325T010000
END:DAYLIGHT
BEGIN:STANDARD
TZOFFSETFROM:+0200
TZOFFSETTO:+0100
TZNAME:CET
DTSTART:20291028T010000
END:STANDARD
END:VTIMEZONE
BEGIN:VEVENT
DTSTART;VALUE=DATE:20280510
DTEND;VALUE=DATE:20280515
DTSTAMP:20260424T124441
CREATED:20230121T115333Z
LAST-MODIFIED:20230131T103757Z
UID:10000589-1841529600-1841961599@www.bmt-akademie.com
SUMMARY:Ausbildung Manuelle Therapie  P6 | W3
DESCRIPTION:Spezielle Behandlung der Wirbelsäule (dreidimensional) \, Untersuchung und Behandlung des Craniocervikalen Überganges (Kopfgelenke) und des Craniomandibulärem System (Kiefergelenk): Behandlungsbeispiele aus der Pathologie und Morphologie\, spezielle Verriegelungstechniken über das Wirbelgruppenverhalten (Facettenverriegelung)\, isolierte Behandlung einzelner Facettenpaare\, Muscle-Energie-Technics\, dreidimensionale Untersuchung und Behandlung des Craniocervikalen Überganges und Craniomandibulärem Systems\, Sicherheitstest des Craniocervikalen Überganges\, Pathologie und Zusammenhänge des Craniocervikalen Überganges und Craniomandibulärem System\, Verknüpfung des Biomechanischen und Biodynamischen Systeme anhand der Embryologie.
URL:https://www.bmt-akademie.com/kurs/ausbildung-manuelle-therapie-p6-w3-8/
LOCATION:Bernd-Blindow-Schulen Heilbronn\, Allee 6\, Heilbronn\, 74072\, Deutschland
CATEGORIES:Kurs P6 | W3
ATTACH;FMTTYPE=image/png:https://www.bmt-akademie.com/wp-content/uploads/Kurse-W3-Heilbronn.png
GEO:49.1402084;9.2226436
X-APPLE-STRUCTURED-LOCATION;VALUE=URI;X-ADDRESS=Bernd-Blindow-Schulen Heilbronn Allee 6 Heilbronn 74072 Deutschland;X-APPLE-RADIUS=500;X-TITLE=Allee 6:geo:9.2226436,49.1402084
END:VEVENT
END:VCALENDAR