BEGIN:VCALENDAR
VERSION:2.0
PRODID:-//BMT Akademie - ECPv6.15.15//NONSGML v1.0//EN
CALSCALE:GREGORIAN
METHOD:PUBLISH
X-WR-CALNAME:BMT Akademie
X-ORIGINAL-URL:https://www.bmt-akademie.com
X-WR-CALDESC:Veranstaltungen für BMT Akademie
REFRESH-INTERVAL;VALUE=DURATION:PT1H
X-Robots-Tag:noindex
X-PUBLISHED-TTL:PT1H
BEGIN:VTIMEZONE
TZID:Europe/Berlin
BEGIN:DAYLIGHT
TZOFFSETFROM:+0100
TZOFFSETTO:+0200
TZNAME:CEST
DTSTART:20270328T010000
END:DAYLIGHT
BEGIN:STANDARD
TZOFFSETFROM:+0200
TZOFFSETTO:+0100
TZNAME:CET
DTSTART:20271031T010000
END:STANDARD
BEGIN:DAYLIGHT
TZOFFSETFROM:+0100
TZOFFSETTO:+0200
TZNAME:CEST
DTSTART:20280326T010000
END:DAYLIGHT
BEGIN:STANDARD
TZOFFSETFROM:+0200
TZOFFSETTO:+0100
TZNAME:CET
DTSTART:20281029T010000
END:STANDARD
BEGIN:DAYLIGHT
TZOFFSETFROM:+0100
TZOFFSETTO:+0200
TZNAME:CEST
DTSTART:20290325T010000
END:DAYLIGHT
BEGIN:STANDARD
TZOFFSETFROM:+0200
TZOFFSETTO:+0100
TZNAME:CET
DTSTART:20291028T010000
END:STANDARD
END:VTIMEZONE
BEGIN:VEVENT
DTSTART;VALUE=DATE:20280906
DTEND;VALUE=DATE:20280911
DTSTAMP:20260424T173340
CREATED:20230121T115858Z
LAST-MODIFIED:20230131T103818Z
UID:10000592-1851811200-1852243199@www.bmt-akademie.com
SUMMARY:Einstiegskurs Manuelle Therapie  P1 | E1
DESCRIPTION:Untersuchung und Behandlung der oberen Extremität und unteren Extremität (zweidimensional) Arthro- und Myodiagnostik: Beschreibende Anatomie\, Arthro- und Osteokinematik aus der Biomechanik\, Gelenkneurologie und neuromuskuläre Zusammenhänge\, Befunderhebung\, aktive und passive Strukturen\, Gelenktranslation und -separation\, Palpation. Gelenkmobilisation aus der Ruhestellung. \nFür ehemalige Schüler der Bernd-Blindow-Gruppe und ehemalige/aktuelle Studenten der Bernd-Blindow-Gruppe beträgt die Kursgebühr für den Starterkurs ab 2024 einmalig 400\,00 €.\nEin Nachweis ist erforderlich bei der Anmeldung.
URL:https://www.bmt-akademie.com/kurs/einstiegskurs-manuelle-therapie-p1-e1-10/
LOCATION:Bernd-Blindow-Schulen Heilbronn\, Allee 6\, Heilbronn\, 74072\, Deutschland
CATEGORIES:Kurs P1 | E1
ATTACH;FMTTYPE=image/png:https://www.bmt-akademie.com/wp-content/uploads/Kurse-E1-Heilbronn.png
GEO:49.1402084;9.2226436
X-APPLE-STRUCTURED-LOCATION;VALUE=URI;X-ADDRESS=Bernd-Blindow-Schulen Heilbronn Allee 6 Heilbronn 74072 Deutschland;X-APPLE-RADIUS=500;X-TITLE=Allee 6:geo:9.2226436,49.1402084
END:VEVENT
BEGIN:VEVENT
DTSTART;VALUE=DATE:20281206
DTEND;VALUE=DATE:20281211
DTSTAMP:20260424T173340
CREATED:20230121T120015Z
LAST-MODIFIED:20230131T103821Z
UID:10000593-1859673600-1860105599@www.bmt-akademie.com
SUMMARY:Ausbildung Manuelle Therapie P2 | E2
DESCRIPTION:Spezielle Behandlung der Extremitätengelenke (dreidimensional) Arthro- und Myodiagnostik\, dreidimensionale Diagnostik und Therapie der Beckenregion und Hüftgelenk\, Biomechanik: Konstitutionelle Haltung und Bewegung\, funktionelle Anatomie\, dreidimensionale Bewegungsabläufe\, Dokumentation\, Behandlungsschemata\, Behandlung der Hypermobilität\, Immobilisation\, Automobilisation\, Mobilisationen an der Barriere 3D\, Manipulation\, Hebelgesetze der Biomechanik.
URL:https://www.bmt-akademie.com/kurs/ausbildung-manuelle-therapie-p2-e2-6/
LOCATION:Bernd-Blindow-Schulen Heilbronn\, Allee 6\, Heilbronn\, 74072\, Deutschland
CATEGORIES:Kurs P2 | E2
ATTACH;FMTTYPE=image/png:https://www.bmt-akademie.com/wp-content/uploads/Kurse-E2-Heilbronn.png
GEO:49.1402084;9.2226436
X-APPLE-STRUCTURED-LOCATION;VALUE=URI;X-ADDRESS=Bernd-Blindow-Schulen Heilbronn Allee 6 Heilbronn 74072 Deutschland;X-APPLE-RADIUS=500;X-TITLE=Allee 6:geo:9.2226436,49.1402084
END:VEVENT
END:VCALENDAR