BEGIN:VCALENDAR
VERSION:2.0
PRODID:-//BMT Akademie - ECPv6.15.15//NONSGML v1.0//EN
CALSCALE:GREGORIAN
METHOD:PUBLISH
X-ORIGINAL-URL:https://www.bmt-akademie.com
X-WR-CALDESC:Veranstaltungen für BMT Akademie
REFRESH-INTERVAL;VALUE=DURATION:PT1H
X-Robots-Tag:noindex
X-PUBLISHED-TTL:PT1H
BEGIN:VTIMEZONE
TZID:Europe/Berlin
BEGIN:DAYLIGHT
TZOFFSETFROM:+0100
TZOFFSETTO:+0200
TZNAME:CEST
DTSTART:20260329T010000
END:DAYLIGHT
BEGIN:STANDARD
TZOFFSETFROM:+0200
TZOFFSETTO:+0100
TZNAME:CET
DTSTART:20261025T010000
END:STANDARD
BEGIN:DAYLIGHT
TZOFFSETFROM:+0100
TZOFFSETTO:+0200
TZNAME:CEST
DTSTART:20270328T010000
END:DAYLIGHT
BEGIN:STANDARD
TZOFFSETFROM:+0200
TZOFFSETTO:+0100
TZNAME:CET
DTSTART:20271031T010000
END:STANDARD
BEGIN:DAYLIGHT
TZOFFSETFROM:+0100
TZOFFSETTO:+0200
TZNAME:CEST
DTSTART:20280326T010000
END:DAYLIGHT
BEGIN:STANDARD
TZOFFSETFROM:+0200
TZOFFSETTO:+0100
TZNAME:CET
DTSTART:20281029T010000
END:STANDARD
END:VTIMEZONE
BEGIN:VEVENT
DTSTART;VALUE=DATE:20270902
DTEND;VALUE=DATE:20270906
DTSTAMP:20260426T040017
CREATED:20230105T132053Z
LAST-MODIFIED:20230131T103744Z
UID:10000442-1819843200-1820188799@www.bmt-akademie.com
SUMMARY:Ausbildung Neurodynamische Therapie
DESCRIPTION:Das Konzept "Biodynamische Manuelle Therapie".\nDas Nervensystem durchzieht den gesamten Körper und muss sich bei allen Bewegungen der Gelenke anpassen. Meist liegen deshalb bei Störungen im muskulo-artikulärem System auch neurale Probleme direkt oder indirekt vor. Die Integration neurodynamischer Tests in die Behandlung ermöglicht es\, neurale Probleme aufzudecken und einen Behandlungsplan aufzustellen. \n  \nKursinhalte: \n\n	Auswertung der Untersuchungs- und Behandlungsresultate \n	differenzialdiagnostische Verfahren - Grundlage der Neurotherapie und Pathoneurodynamik \n	grundlegende Neuroanatomie\, Neurophysiologie und Neuropathologie \n	Indikationen\, Kontraindikationen - neurale Palpationstechniken \n	neurodynamische Basistests \n	neurodynamische Mobilisation/Therapie\n\n  \nZusätzlicher Hinweis:\nDie Neurodynamische Therapie umfasst einen Kurs an 4 Tagen.
URL:https://www.bmt-akademie.com/kurs/ausbildung-neurodynamische-therapie-2/
LOCATION:Bernd-Blindow-Schulen Leipzig\, Comeniusstraße 17\, Leipzig\, 04315\, Deutschland
CATEGORIES:Neurodynamische Therapie
ATTACH;FMTTYPE=image/png:https://www.bmt-akademie.com/wp-content/uploads/Kurse-NDY-Leipzig.png
GEO:51.3424087;12.4020515
X-APPLE-STRUCTURED-LOCATION;VALUE=URI;X-ADDRESS=Bernd-Blindow-Schulen Leipzig Comeniusstraße 17 Leipzig 04315 Deutschland;X-APPLE-RADIUS=500;X-TITLE=Comeniusstraße 17:geo:12.4020515,51.3424087
END:VEVENT
END:VCALENDAR